BEGIN:VCALENDAR
VERSION:2.0
PRODID:-//Dientzenhofer-Gymnasium Bamberg - ECPv5.14.0.4//NONSGML v1.0//EN
CALSCALE:GREGORIAN
METHOD:PUBLISH
X-WR-CALNAME:Dientzenhofer-Gymnasium Bamberg
X-ORIGINAL-URL:https://www.dg-info.de
X-WR-CALDESC:Veranstaltungen für Dientzenhofer-Gymnasium Bamberg
BEGIN:VTIMEZONE
TZID:Europe/Berlin
BEGIN:DAYLIGHT
TZOFFSETFROM:+0100
TZOFFSETTO:+0200
TZNAME:CEST
DTSTART:20200329T010000
END:DAYLIGHT
BEGIN:STANDARD
TZOFFSETFROM:+0200
TZOFFSETTO:+0100
TZNAME:CET
DTSTART:20201025T010000
END:STANDARD
END:VTIMEZONE
BEGIN:VEVENT
DTSTART;VALUE=DATE:20200428
DTEND;VALUE=DATE:20200429
DTSTAMP:20260423T033352
CREATED:20200123T102126Z
LAST-MODIFIED:20200123T102126Z
UID:54697-1588032000-1588118399@www.dg-info.de
SUMMARY:Bundesjugendspiele
DESCRIPTION:
URL:https://www.dg-info.de/kalender/bundesjugendspiele-4/
END:VEVENT
END:VCALENDAR