BEGIN:VCALENDAR
VERSION:2.0
PRODID:-//Dientzenhofer-Gymnasium Bamberg - ECPv5.14.0.4//NONSGML v1.0//EN
CALSCALE:GREGORIAN
METHOD:PUBLISH
X-WR-CALNAME:Dientzenhofer-Gymnasium Bamberg
X-ORIGINAL-URL:https://www.dg-info.de
X-WR-CALDESC:Veranstaltungen für Dientzenhofer-Gymnasium Bamberg
BEGIN:VTIMEZONE
TZID:Europe/Berlin
BEGIN:DAYLIGHT
TZOFFSETFROM:+0100
TZOFFSETTO:+0200
TZNAME:CEST
DTSTART:20220327T010000
END:DAYLIGHT
BEGIN:STANDARD
TZOFFSETFROM:+0200
TZOFFSETTO:+0100
TZNAME:CET
DTSTART:20221030T010000
END:STANDARD
END:VTIMEZONE
BEGIN:VEVENT
DTSTART;VALUE=DATE:20220729
DTEND;VALUE=DATE:20220730
DTSTAMP:20260421T113937
CREATED:20211209T093555Z
LAST-MODIFIED:20211209T093555Z
UID:58221-1659052800-1659139199@www.dg-info.de
SUMMARY:Jahreszeugnis
DESCRIPTION:
URL:https://www.dg-info.de/kalender/jahreszeugnis/
END:VEVENT
END:VCALENDAR